BEGIN:VCALENDAR
PRODID:http://www.kufer.de/kuferweb / DE
VERSION:2.0
METHOD:PUBLISH
CALSCALE:GREGORIAN
X-WR-TIMEZONE:Europe/Berlin
BEGIN:VTIMEZONE
TZID:Europe/Berlin
X-LIC-LOCATION:Europe/Berlin
BEGIN:DAYLIGHT
TZOFFSETFROM:+0100
TZOFFSETTO:+0200
TZNAME:CEST
DTSTART;TZID=Europe/Berlin:19700329T020000
RRULE:FREQ=YEARLY;INTERVAL=1;BYDAY=-1SU;BYMONTH=3
END:DAYLIGHT
BEGIN:STANDARD
TZOFFSETFROM:+0200
TZOFFSETTO:+0100
TZNAME:CET
DTSTART;TZID=Europe/Berlin:19701025T030000
RRULE:FREQ=YEARLY;INTERVAL=1;BYDAY=-1SU;BYMONTH=10
END:STANDARD
END:VTIMEZONE
BEGIN:VEVENT
DTSTAMP:20260423T165247
DTSTART;TZID=Europe/Berlin:20240220T170000
DTEND;TZID=Europe/Berlin:20240220T193000
UID:24-R102TGW-20240220T170000@HERA FORTBILDUNGS GMBH
DESCRIPTION:Online: Bonusansprüche erfolgreich durchsetzen/abwehren
SUMMARY:Live-Online-Seminar: Arbeitsrecht Spezial 2024 - Gesamtkurs (24-R102TGW) 
LOCATION:Online-Seminar, , 
END:VEVENT
BEGIN:VEVENT
DTSTAMP:20260423T165247
DTSTART;TZID=Europe/Berlin:20240312T170000
DTEND;TZID=Europe/Berlin:20240312T193000
UID:24-R102TGW-20240312T170000@HERA FORTBILDUNGS GMBH
DESCRIPTION:Online: Arbeitszeitrecht und andere Themen der Digitalisierung
SUMMARY:Live-Online-Seminar: Arbeitsrecht Spezial 2024 - Gesamtkurs (24-R102TGW) 
LOCATION:Online-Seminar, , 
END:VEVENT
BEGIN:VEVENT
DTSTAMP:20260423T165247
DTSTART;TZID=Europe/Berlin:20240416T170000
DTEND;TZID=Europe/Berlin:20240416T193000
UID:24-R102TGW-20240416T170000@HERA FORTBILDUNGS GMBH
DESCRIPTION:Online: Kündigung/Beendigung von Arbeitsverhältnissen
SUMMARY:Live-Online-Seminar: Arbeitsrecht Spezial 2024 - Gesamtkurs (24-R102TGW) 
LOCATION:Online-Seminar, , 
END:VEVENT
BEGIN:VEVENT
DTSTAMP:20260423T165247
DTSTART;TZID=Europe/Berlin:20240514T170000
DTEND;TZID=Europe/Berlin:20240514T193000
UID:24-R102TGW-20240514T170000@HERA FORTBILDUNGS GMBH
DESCRIPTION:Online: Aktuelles aus dem Betriebsverfassungsrat
SUMMARY:Live-Online-Seminar: Arbeitsrecht Spezial 2024 - Gesamtkurs (24-R102TGW) 
LOCATION:Online-Seminar, , 
END:VEVENT
END:VCALENDAR