BEGIN:VCALENDAR
PRODID:http://www.kufer.de/kuferweb / DE
VERSION:2.0
METHOD:PUBLISH
CALSCALE:GREGORIAN
X-WR-TIMEZONE:Europe/Berlin
BEGIN:VTIMEZONE
TZID:Europe/Berlin
X-LIC-LOCATION:Europe/Berlin
BEGIN:DAYLIGHT
TZOFFSETFROM:+0100
TZOFFSETTO:+0200
TZNAME:CEST
DTSTART;TZID=Europe/Berlin:19700329T020000
RRULE:FREQ=YEARLY;INTERVAL=1;BYDAY=-1SU;BYMONTH=3
END:DAYLIGHT
BEGIN:STANDARD
TZOFFSETFROM:+0200
TZOFFSETTO:+0100
TZNAME:CET
DTSTART;TZID=Europe/Berlin:19701025T030000
RRULE:FREQ=YEARLY;INTERVAL=1;BYDAY=-1SU;BYMONTH=10
END:STANDARD
END:VTIMEZONE
BEGIN:VEVENT
DTSTAMP:20260424T103207
DTSTART;TZID=Europe/Berlin:20261029T140000
DTEND;TZID=Europe/Berlin:20261029T200000
UID:26-R202P-20261029T140000@HERA FORTBILDUNGS GMBH
SUMMARY:Mediation für Rechtsanwälte, Richter, Syndizi und Führungskräfte (26-R202P) 
LOCATION:Villa Manskopf, Flughafenstraße 4, 60528 Frankfurt am Main
END:VEVENT
BEGIN:VEVENT
DTSTAMP:20260424T103207
DTSTART;TZID=Europe/Berlin:20261030T090000
DTEND;TZID=Europe/Berlin:20261030T193000
UID:26-R202P-20261030T090000@HERA FORTBILDUNGS GMBH
SUMMARY:Mediation für Rechtsanwälte, Richter, Syndizi und Führungskräfte (26-R202P) 
LOCATION:Villa Manskopf, Flughafenstraße 4, 60528 Frankfurt am Main
END:VEVENT
BEGIN:VEVENT
DTSTAMP:20260424T103207
DTSTART;TZID=Europe/Berlin:20261031T090000
DTEND;TZID=Europe/Berlin:20261031T163000
UID:26-R202P-20261031T090000@HERA FORTBILDUNGS GMBH
SUMMARY:Mediation für Rechtsanwälte, Richter, Syndizi und Führungskräfte (26-R202P) 
LOCATION:Villa Manskopf, Flughafenstraße 4, 60528 Frankfurt am Main
END:VEVENT
BEGIN:VEVENT
DTSTAMP:20260424T103207
DTSTART;TZID=Europe/Berlin:20261210T140000
DTEND;TZID=Europe/Berlin:20261210T200000
UID:26-R202P-20261210T140000@HERA FORTBILDUNGS GMBH
SUMMARY:Mediation für Rechtsanwälte, Richter, Syndizi und Führungskräfte (26-R202P) 
LOCATION:Villa Manskopf, Flughafenstraße 4, 60528 Frankfurt am Main
END:VEVENT
BEGIN:VEVENT
DTSTAMP:20260424T103207
DTSTART;TZID=Europe/Berlin:20261211T090000
DTEND;TZID=Europe/Berlin:20261211T193000
UID:26-R202P-20261211T090000@HERA FORTBILDUNGS GMBH
SUMMARY:Mediation für Rechtsanwälte, Richter, Syndizi und Führungskräfte (26-R202P) 
LOCATION:Villa Manskopf, Flughafenstraße 4, 60528 Frankfurt am Main
END:VEVENT
BEGIN:VEVENT
DTSTAMP:20260424T103207
DTSTART;TZID=Europe/Berlin:20261212T090000
DTEND;TZID=Europe/Berlin:20261212T163000
UID:26-R202P-20261212T090000@HERA FORTBILDUNGS GMBH
SUMMARY:Mediation für Rechtsanwälte, Richter, Syndizi und Führungskräfte (26-R202P) 
LOCATION:Villa Manskopf, Flughafenstraße 4, 60528 Frankfurt am Main
END:VEVENT
BEGIN:VEVENT
DTSTAMP:20260424T103207
DTSTART;TZID=Europe/Berlin:20270121T140000
DTEND;TZID=Europe/Berlin:20270121T200000
UID:26-R202P-20270121T140000@HERA FORTBILDUNGS GMBH
SUMMARY:Mediation für Rechtsanwälte, Richter, Syndizi und Führungskräfte (26-R202P) 
LOCATION:Villa Manskopf, Flughafenstraße 4, 60528 Frankfurt am Main
END:VEVENT
BEGIN:VEVENT
DTSTAMP:20260424T103207
DTSTART;TZID=Europe/Berlin:20270122T090000
DTEND;TZID=Europe/Berlin:20270122T193000
UID:26-R202P-20270122T090000@HERA FORTBILDUNGS GMBH
SUMMARY:Mediation für Rechtsanwälte, Richter, Syndizi und Führungskräfte (26-R202P) 
LOCATION:Villa Manskopf, Flughafenstraße 4, 60528 Frankfurt am Main
END:VEVENT
BEGIN:VEVENT
DTSTAMP:20260424T103207
DTSTART;TZID=Europe/Berlin:20270123T090000
DTEND;TZID=Europe/Berlin:20270123T163000
UID:26-R202P-20270123T090000@HERA FORTBILDUNGS GMBH
SUMMARY:Mediation für Rechtsanwälte, Richter, Syndizi und Führungskräfte (26-R202P) 
LOCATION:Villa Manskopf, Flughafenstraße 4, 60528 Frankfurt am Main
END:VEVENT
BEGIN:VEVENT
DTSTAMP:20260424T103207
DTSTART;TZID=Europe/Berlin:20270311T140000
DTEND;TZID=Europe/Berlin:20270311T200000
UID:26-R202P-20270311T140000@HERA FORTBILDUNGS GMBH
SUMMARY:Mediation für Rechtsanwälte, Richter, Syndizi und Führungskräfte (26-R202P) 
LOCATION:Villa Manskopf, Flughafenstraße 4, 60528 Frankfurt am Main
END:VEVENT
BEGIN:VEVENT
DTSTAMP:20260424T103207
DTSTART;TZID=Europe/Berlin:20270312T090000
DTEND;TZID=Europe/Berlin:20270312T193000
UID:26-R202P-20270312T090000@HERA FORTBILDUNGS GMBH
SUMMARY:Mediation für Rechtsanwälte, Richter, Syndizi und Führungskräfte (26-R202P) 
LOCATION:Villa Manskopf, Flughafenstraße 4, 60528 Frankfurt am Main
END:VEVENT
BEGIN:VEVENT
DTSTAMP:20260424T103207
DTSTART;TZID=Europe/Berlin:20270313T090000
DTEND;TZID=Europe/Berlin:20270313T163000
UID:26-R202P-20270313T090000@HERA FORTBILDUNGS GMBH
SUMMARY:Mediation für Rechtsanwälte, Richter, Syndizi und Führungskräfte (26-R202P) 
LOCATION:Villa Manskopf, Flughafenstraße 4, 60528 Frankfurt am Main
END:VEVENT
BEGIN:VEVENT
DTSTAMP:20260424T103207
DTSTART;TZID=Europe/Berlin:20270422T140000
DTEND;TZID=Europe/Berlin:20270422T200000
UID:26-R202P-20270422T140000@HERA FORTBILDUNGS GMBH
SUMMARY:Mediation für Rechtsanwälte, Richter, Syndizi und Führungskräfte (26-R202P) 
LOCATION:Villa Manskopf, Flughafenstraße 4, 60528 Frankfurt am Main
END:VEVENT
BEGIN:VEVENT
DTSTAMP:20260424T103207
DTSTART;TZID=Europe/Berlin:20270423T090000
DTEND;TZID=Europe/Berlin:20270423T193000
UID:26-R202P-20270423T090000@HERA FORTBILDUNGS GMBH
SUMMARY:Mediation für Rechtsanwälte, Richter, Syndizi und Führungskräfte (26-R202P) 
LOCATION:Villa Manskopf, Flughafenstraße 4, 60528 Frankfurt am Main
END:VEVENT
BEGIN:VEVENT
DTSTAMP:20260424T103207
DTSTART;TZID=Europe/Berlin:20270424T090000
DTEND;TZID=Europe/Berlin:20270424T163000
UID:26-R202P-20270424T090000@HERA FORTBILDUNGS GMBH
SUMMARY:Mediation für Rechtsanwälte, Richter, Syndizi und Führungskräfte (26-R202P) 
LOCATION:Villa Manskopf, Flughafenstraße 4, 60528 Frankfurt am Main
END:VEVENT
BEGIN:VEVENT
DTSTAMP:20260424T103207
DTSTART;TZID=Europe/Berlin:20270520T140000
DTEND;TZID=Europe/Berlin:20270520T200000
UID:26-R202P-20270520T140000@HERA FORTBILDUNGS GMBH
SUMMARY:Mediation für Rechtsanwälte, Richter, Syndizi und Führungskräfte (26-R202P) 
LOCATION:Villa Manskopf, Flughafenstraße 4, 60528 Frankfurt am Main
END:VEVENT
BEGIN:VEVENT
DTSTAMP:20260424T103207
DTSTART;TZID=Europe/Berlin:20270521T090000
DTEND;TZID=Europe/Berlin:20270521T193000
UID:26-R202P-20270521T090000@HERA FORTBILDUNGS GMBH
SUMMARY:Mediation für Rechtsanwälte, Richter, Syndizi und Führungskräfte (26-R202P) 
LOCATION:Villa Manskopf, Flughafenstraße 4, 60528 Frankfurt am Main
END:VEVENT
BEGIN:VEVENT
DTSTAMP:20260424T103207
DTSTART;TZID=Europe/Berlin:20270522T090000
DTEND;TZID=Europe/Berlin:20270522T163000
UID:26-R202P-20270522T090000@HERA FORTBILDUNGS GMBH
SUMMARY:Mediation für Rechtsanwälte, Richter, Syndizi und Führungskräfte (26-R202P) 
LOCATION:Villa Manskopf, Flughafenstraße 4, 60528 Frankfurt am Main
END:VEVENT
END:VCALENDAR